BEGIN:VCALENDAR
VERSION:2.0
PRODID:-//ChamberMaster//Event Calendar 2.0//EN
METHOD:PUBLISH
X-PUBLISHED-TTL:P3D
REFRESH-INTERVAL:P3D
CALSCALE:GREGORIAN
BEGIN:VEVENT
DTSTART:20160303T180000Z
DTEND:20160303T200000Z
X-MICROSOFT-CDO-ALLDAYEVENT:FALSE
SUMMARY:Export Process & Documentation Workshop- CANCELLED
DESCRIPTION:Ready to expand your business into foreign markets?\n\n\n\nDid you know that 95% of the world's consumers live outside of the United States? This represents a huge global market for U.S. products and services.\n\n\n\nIf you are an existing business owner interested in selling your products or services in other countries but do not know how exporting works or where to start\, this workshop is for you.
X-ALT-DESC;FMTTYPE=text/html:Ready to expand your business into foreign markets?<br />\n<br />\nDid you know that 95% of the world&#39\;s consumers live outside of the United States? This represents a huge global market for U.S. products and services.<br />\n<br />\nIf you are an existing business owner interested in selling your products or services in other countries but do not know how exporting works or where to start\, this workshop is for you.
LOCATION:National City Chamber of Commerce 901 National City Blvd. National City\, CA 91950
UID:e.764.1876
SEQUENCE:3
DTSTAMP:20260422T071735Z
URL:http://nationalcity.chambermaster.com/events/details/export-process-documentation-workshop-cancelled-03-03-2016-1876
END:VEVENT

END:VCALENDAR
